BEGIN:VCALENDAR
VERSION:2.0
PRODID:-//Kristin Glenewinkel - ECPv6.15.12.2//NONSGML v1.0//EN
CALSCALE:GREGORIAN
METHOD:PUBLISH
X-WR-CALNAME:Kristin Glenewinkel
X-ORIGINAL-URL:https://kristin-glenewinkel.ch
X-WR-CALDESC:Veranstaltungen für Kristin Glenewinkel
REFRESH-INTERVAL;VALUE=DURATION:PT1H
X-Robots-Tag:noindex
X-PUBLISHED-TTL:PT1H
BEGIN:VTIMEZONE
TZID:Europe/Berlin
BEGIN:DAYLIGHT
TZOFFSETFROM:+0100
TZOFFSETTO:+0200
TZNAME:CEST
DTSTART:20220327T010000
END:DAYLIGHT
BEGIN:STANDARD
TZOFFSETFROM:+0200
TZOFFSETTO:+0100
TZNAME:CET
DTSTART:20221030T010000
END:STANDARD
BEGIN:DAYLIGHT
TZOFFSETFROM:+0100
TZOFFSETTO:+0200
TZNAME:CEST
DTSTART:20230326T010000
END:DAYLIGHT
BEGIN:STANDARD
TZOFFSETFROM:+0200
TZOFFSETTO:+0100
TZNAME:CET
DTSTART:20231029T010000
END:STANDARD
BEGIN:DAYLIGHT
TZOFFSETFROM:+0100
TZOFFSETTO:+0200
TZNAME:CEST
DTSTART:20240331T010000
END:DAYLIGHT
BEGIN:STANDARD
TZOFFSETFROM:+0200
TZOFFSETTO:+0100
TZNAME:CET
DTSTART:20241027T010000
END:STANDARD
END:VTIMEZONE
BEGIN:VEVENT
DTSTART;TZID=Europe/Berlin:20231018T184500
DTEND;TZID=Europe/Berlin:20231018T211500
DTSTAMP:20260422T130524
CREATED:20221216T121111Z
LAST-MODIFIED:20221216T121111Z
UID:2088-1697654700-1697663700@kristin-glenewinkel.ch
SUMMARY:Sacred Circle - Offener Abend
DESCRIPTION:Dauer 2.5 Stunden\, Eintritt bar zahlen oder per Twint bei Ankunft CHF 30 \nMittwochabend 18.45 Uhr bis 21.15 Uhr \nBitte zeitig ankommen\,  \nim Tanzraum leichte Kleidung in Schichten tragen. \nMovement Medicine ist eine schamanische Bewegungspraxis – sie geht direkt unter die Haut und fordert dich auf\, mit dem zu bewegen\, was wirklich da ist. Die Alchemie\, die durch deine Präsenz in Bewegung möglich wird\, öffnet neue Türen und erlaubt dir\, dein Selbst zu aktualisieren und Altes loszulassen. \nKristin führt liebevoll und direkt durch verschiedene Übungen der Movement Medicine Praxis\, getragen von exzellenter Musik und bewusst gewählten Worten. Jeder Mensch ist willkommen mit der ureigenen Körpersprache. In einem geschützten Rahmen experimentieren wir mit Stimme\, Tanz und Ritual. \nDiese Abende sind Nährboden für Kraft und Resilienz\, wir schaffen einen Kreis\, in dem wir uns bewegen\, verwandeln\, zuhören und unserer Kreativität Raum geben.
URL:https://kristin-glenewinkel.ch/event/sacred-circle-offener-abend-8/
LOCATION:Geburtshaus Matthea\, Klybeckstrasse 70\, Basel\, 4057\, Schweiz
CATEGORIES:Sacred Circle Serie
ATTACH;FMTTYPE=image/jpeg:https://kristin-glenewinkel.ch/wp-content/uploads/2019/10/sacred_circle.jpg
END:VEVENT
BEGIN:VEVENT
DTSTART;TZID=Europe/Berlin:20231021T150000
DTEND;TZID=Europe/Berlin:20231021T200000
DTSTAMP:20260422T130524
CREATED:20221216T131208Z
LAST-MODIFIED:20230901T111836Z
UID:2127-1697900400-1697918400@kristin-glenewinkel.ch
SUMMARY:Movement Medicine Frauenkrafttag
DESCRIPTION:Frauenkrafttag – Samstag\, 21. Oktober ° Klangkörper – Leib & Stimme \nvon 15 bis 20 Uhr – Ankommen ab 14.30 Uhr \nim Chronos Movement Tanzstudio\, Elisabethenstrasse 22\, Basel \nStimme und Klartext reden sind essenziell. Noch immer ist es für viele Frauen nicht leicht\, laut und deutlich zu sagen\, was ansteht. Movement Medicine öffnet den Weg und wir nähern uns den Blockaden durch die Körperwelt. Der Tanz ist unser Medium\, wir versammeln Kraft & Geschmeidigkeit\, klären und verfeinern und öffnen dann die Stimme. \nEs geht hier um „Embodied VOICE“ – also die Stimme im Körper. Eine wundervolles und reiches Experimentierfeld – aufgespannt zwischen Stille und Klang. In Bewegung & Gestalt. \nCHF 90 – Kommst du mit einer Freundin\, die das erste Mal bei Kristin tanzt\, gibt es für jede Frau den Freundinnenpreis von CHF 70. (€ -Preis: € 60) \nAnmeldung bei Kristin. kristin.glenewinkel@gmx.ch \nKristin Glenewinkel ist qualifizierte Movement Medicine Lehrerin. Ihr erlebtes Körperwissen fliesst in ihre Tanzarbeit mit ein. Langjährige Schulung in Meditation und Yoga und zusätzliches Training im Halten von Ritualen & Zeremonien geben ihrem Raum Tiefe. Kristin ist eine weise\, behutsame Frau\, die andere unterstützt\, Bewegung in ihren Prozess zu bringen. In Weichheit und durch Weiblichkeit. Sie ist verbunden mit inneren Kräften\, ihre Arbeit ist Medizin für die Seele.  \nMovement Medicine ist eine schamanische Bewegungspraxis\, die den innewohnenden Tanz bejaht\, der sich JETZT frei entfaltet. Jede Frau ist willkommen mit ihrer Körpersprache\, mit Gefühlen und Geschichten. In einem geschützten Rahmen experimentieren wir mit Stimme\, Tanz und Ritual. Wir anerkennen einander als freie Frauen. Diese Tage sind Nährboden für weibliche Kraft\, wir bilden einen Kreis\, in dem wir uns bewegen\, zuhören und unserer Kreativität Raum geben.
URL:https://kristin-glenewinkel.ch/event/movement-medicine-frauenkrafttag-5/
LOCATION:Chronos Movement Studio Basel\, Elisabethenstrasse 22\, Basel\, 4051\, Schweiz
CATEGORIES:FKT
ATTACH;FMTTYPE=image/jpeg:https://kristin-glenewinkel.ch/wp-content/uploads/2021/05/Angela-Schlump-1.jpg
END:VEVENT
END:VCALENDAR