BEGIN:VCALENDAR
VERSION:2.0
PRODID:-//Kristin Glenewinkel - ECPv6.15.12.2//NONSGML v1.0//EN
CALSCALE:GREGORIAN
METHOD:PUBLISH
X-WR-CALNAME:Kristin Glenewinkel
X-ORIGINAL-URL:https://kristin-glenewinkel.ch
X-WR-CALDESC:Veranstaltungen für Kristin Glenewinkel
REFRESH-INTERVAL;VALUE=DURATION:PT1H
X-Robots-Tag:noindex
X-PUBLISHED-TTL:PT1H
BEGIN:VTIMEZONE
TZID:Europe/Berlin
BEGIN:DAYLIGHT
TZOFFSETFROM:+0100
TZOFFSETTO:+0200
TZNAME:CEST
DTSTART:20220327T010000
END:DAYLIGHT
BEGIN:STANDARD
TZOFFSETFROM:+0200
TZOFFSETTO:+0100
TZNAME:CET
DTSTART:20221030T010000
END:STANDARD
BEGIN:DAYLIGHT
TZOFFSETFROM:+0100
TZOFFSETTO:+0200
TZNAME:CEST
DTSTART:20230326T010000
END:DAYLIGHT
BEGIN:STANDARD
TZOFFSETFROM:+0200
TZOFFSETTO:+0100
TZNAME:CET
DTSTART:20231029T010000
END:STANDARD
BEGIN:DAYLIGHT
TZOFFSETFROM:+0100
TZOFFSETTO:+0200
TZNAME:CEST
DTSTART:20240331T010000
END:DAYLIGHT
BEGIN:STANDARD
TZOFFSETFROM:+0200
TZOFFSETTO:+0100
TZNAME:CET
DTSTART:20241027T010000
END:STANDARD
END:VTIMEZONE
BEGIN:VEVENT
DTSTART;TZID=Europe/Berlin:20230513T150000
DTEND;TZID=Europe/Berlin:20230513T200000
DTSTAMP:20260422T213411
CREATED:20221216T130818Z
LAST-MODIFIED:20230406T053551Z
UID:2121-1683990000-1684008000@kristin-glenewinkel.ch
SUMMARY:Movement Medicine Frauenkrafttag
DESCRIPTION:Frauenkrafttag: Frauenpower- Embodiment\, Empowerment und Ehrlichkeit. \nAn diesem Tag sammeln wir unsere Kräfte\, erinnern uns an die inneren Schätze und feiern sie gemeinsam. Wir Frauen ermutigen einander im Tanz\, sind Zeuginnen füreinander und bewegen gleichzeitig im Zentrum des eigenen Kreises. Wir finden Erdung\, Klarheit\, Geschmeidigkeit und Dankbarkeit in der Alchemie vom Movement Medicine Medizinrad. Wir tauschen uns aus in Respekt und Anerkennung für das\, was uns grad am Herzen liegt.  Der Frauenkrafttag ist eine intensive Erfahrung aus Körperarbeit\, Gruppenprozess und Ritual. Raum zum Sein und Zeit zum Leuchten. \nDu bist herzlich willkommen\, bring deine Freundinnen mit! \nZusammen sind wir stark und schöpfen Hoffnung & Inspiration. \nSamstags jeweils von 15 bis 20 Uhr  \nAnmeldung per Email kristin.glenewinkel@gmx.ch \nJeder Frauenkrafttag ist ein Tagesworkshop\, spezifisch mit einem Thema in die Tiefe tanzend \nKosten pro Tag CHF 90. Kommst du mit einer Freundin\, die das erste Mal bei Kristin tanzt\, gibt es für jede Frau den Freundinnenpreis von CHF 70. (Euro-Preis für Frauen aus DE oder F: CHF 60)  \nKristin Glenewinkel ist qualifizierte Movement Medicine Lehrerin. Ihr erlebtes Körperwissen fliesst in ihre Tanzarbeit mit ein. Langjährige Schulung in Meditation und Yoga und zusätzliches Training im Halten von Ritualen & Zeremonien geben ihrem Raum Tiefe. Kristin ist eine weise\, behutsame Frau\, die andere unterstützt\, Bewegung in ihren Prozess zu bringen. In Weichheit und durch Weiblichkeit. Sie ist verbunden mit inneren Kräften\, ihre Arbeit ist Medizin für die Seele.  \nMovement Medicine ist eine schamanische Bewegungspraxis\, die den innewohnenden Tanz bejaht\, der sich JETZT frei entfaltet. Jede Frau ist willkommen mit ihrer Körpersprache\, mit Gefühlen und Geschichten. In einem geschützten Rahmen experimentieren wir mit Stimme\, Tanz und Ritual. Wir anerkennen einander als freie Frauen. Diese Tage sind Nährboden für weibliche Kraft\, wir bilden einen Kreis\, in dem wir uns bewegen\, zuhören und unserer Kreativität Raum geben.
URL:https://kristin-glenewinkel.ch/event/movement-medicine-frauenkrafttag-2/
LOCATION:Chronos Movement Studio Basel\, Elisabethenstrasse 22\, Basel\, 4051\, Schweiz
CATEGORIES:FKT
ATTACH;FMTTYPE=image/jpeg:https://kristin-glenewinkel.ch/wp-content/uploads/2022/12/MM_Flyer_FKT_2023_def.jpg
END:VEVENT
BEGIN:VEVENT
DTSTART;TZID=Europe/Berlin:20230517T184500
DTEND;TZID=Europe/Berlin:20230517T211500
DTSTAMP:20260422T213411
CREATED:20221216T120702Z
LAST-MODIFIED:20221216T120702Z
UID:2082-1684349100-1684358100@kristin-glenewinkel.ch
SUMMARY:Sacred Circle - Offener Abend
DESCRIPTION:Dauer 2.5 Stunden\, Eintritt bar zahlen oder per Twint bei Ankunft CHF 30 \nMittwochabend 18.45 Uhr bis 21.15 Uhr \nBitte zeitig ankommen\,  \nim Tanzraum leichte Kleidung in Schichten tragen. \nMovement Medicine ist eine schamanische Bewegungspraxis – sie geht direkt unter die Haut und fordert dich auf\, mit dem zu bewegen\, was wirklich da ist. Die Alchemie\, die durch deine Präsenz in Bewegung möglich wird\, öffnet neue Türen und erlaubt dir\, dein Selbst zu aktualisieren und Altes loszulassen. \nKristin führt liebevoll und direkt durch verschiedene Übungen der Movement Medicine Praxis\, getragen von exzellenter Musik und bewusst gewählten Worten. Jeder Mensch ist willkommen mit der ureigenen Körpersprache. In einem geschützten Rahmen experimentieren wir mit Stimme\, Tanz und Ritual. \nDiese Abende sind Nährboden für Kraft und Resilienz\, wir schaffen einen Kreis\, in dem wir uns bewegen\, verwandeln\, zuhören und unserer Kreativität Raum geben.
URL:https://kristin-glenewinkel.ch/event/sacred-circle-offener-abend-5/
LOCATION:Geburtshaus Matthea\, Klybeckstrasse 70\, Basel\, 4057\, Schweiz
CATEGORIES:Sacred Circle Serie
ATTACH;FMTTYPE=image/jpeg:https://kristin-glenewinkel.ch/wp-content/uploads/2019/10/sacred_circle.jpg
END:VEVENT
BEGIN:VEVENT
DTSTART;TZID=Europe/Berlin:20230521T110000
DTEND;TZID=Europe/Berlin:20230521T140000
DTSTAMP:20260422T213411
CREATED:20221216T124115Z
LAST-MODIFIED:20221216T124115Z
UID:2104-1684666800-1684677600@kristin-glenewinkel.ch
SUMMARY:Movement Medicine Sonntagstanz
DESCRIPTION:Begegne der Natur deines Wesens  \nMovement Medicine ist eine schamanische Bewegungspraxis\, die den Tanz bejaht\, der sich im Jetzt frei entfaltet. Wir bewegen mit dem Dreiklang von Körper\, Herz und Geist und wecken Instinkt\, Intuition und Intelligenz in unserem Tanz.  \nWir erlauben unserer Imagination und geistigen Kraft\, tiefer im Körper zu wurzeln. So können wir echt sein und uns dem pulsierenden Herz des Lebens hingeben.  \nEinfach antanzen ohne Anmeldung\, CHF 35  \nChronos Movement Studio Elisabethenstr. 22 in Basel 
URL:https://kristin-glenewinkel.ch/event/movement-medicine-sonntagstanz-5/
LOCATION:Chronos Movement Studio Basel\, Elisabethenstrasse 22\, Basel\, 4051\, Schweiz
CATEGORIES:SOTA
ATTACH;FMTTYPE=image/jpeg:https://kristin-glenewinkel.ch/wp-content/uploads/2022/12/Flyer_MMSoTa_23_def.jpg
END:VEVENT
END:VCALENDAR