BEGIN:VCALENDAR
VERSION:2.0
PRODID:-//Kristin Glenewinkel - ECPv6.15.12.2//NONSGML v1.0//EN
CALSCALE:GREGORIAN
METHOD:PUBLISH
X-ORIGINAL-URL:https://kristin-glenewinkel.ch
X-WR-CALDESC:Veranstaltungen für Kristin Glenewinkel
REFRESH-INTERVAL;VALUE=DURATION:PT1H
X-Robots-Tag:noindex
X-PUBLISHED-TTL:PT1H
BEGIN:VTIMEZONE
TZID:Europe/Berlin
BEGIN:DAYLIGHT
TZOFFSETFROM:+0100
TZOFFSETTO:+0200
TZNAME:CEST
DTSTART:20220327T010000
END:DAYLIGHT
BEGIN:STANDARD
TZOFFSETFROM:+0200
TZOFFSETTO:+0100
TZNAME:CET
DTSTART:20221030T010000
END:STANDARD
BEGIN:DAYLIGHT
TZOFFSETFROM:+0100
TZOFFSETTO:+0200
TZNAME:CEST
DTSTART:20230326T010000
END:DAYLIGHT
BEGIN:STANDARD
TZOFFSETFROM:+0200
TZOFFSETTO:+0100
TZNAME:CET
DTSTART:20231029T010000
END:STANDARD
BEGIN:DAYLIGHT
TZOFFSETFROM:+0100
TZOFFSETTO:+0200
TZNAME:CEST
DTSTART:20240331T010000
END:DAYLIGHT
BEGIN:STANDARD
TZOFFSETFROM:+0200
TZOFFSETTO:+0100
TZNAME:CET
DTSTART:20241027T010000
END:STANDARD
END:VTIMEZONE
BEGIN:VEVENT
DTSTART;TZID=Europe/Berlin:20230212T110000
DTEND;TZID=Europe/Berlin:20230212T140000
DTSTAMP:20260423T020938
CREATED:20221216T123316Z
LAST-MODIFIED:20221216T123316Z
UID:2098-1676199600-1676210400@kristin-glenewinkel.ch
SUMMARY:Movement Medicine Sonntagstanz
DESCRIPTION:Begegne der Natur deines Wesens  \nMovement Medicine ist eine schamanische Bewegungspraxis\, die den Tanz bejaht\, der sich im Jetzt frei entfaltet. Wir bewegen mit dem Dreiklang von Körper\, Herz und Geist und wecken Instinkt\, Intuition und Intelligenz in unserem Tanz.  \nWir erlauben unserer Imagination und geistigen Kraft\, tiefer im Körper zu wurzeln. So können wir echt sein und uns dem pulsierenden Herz des Lebens hingeben.  \nEinfach antanzen ohne Anmeldung\, CHF 35  \nChronos Movement Studio Elisabethenstr. 22 in Basel 
URL:https://kristin-glenewinkel.ch/event/movement-medicine-sonntagstanz-2/
LOCATION:Chronos Movement Studio Basel\, Elisabethenstrasse 22\, Basel\, 4051\, Schweiz
CATEGORIES:SOTA
ATTACH;FMTTYPE=image/jpeg:https://kristin-glenewinkel.ch/wp-content/uploads/2022/12/Flyer_MMSoTa_23_def.jpg
END:VEVENT
BEGIN:VEVENT
DTSTART;TZID=Europe/Berlin:20230215T184500
DTEND;TZID=Europe/Berlin:20230215T211500
DTSTAMP:20260423T020938
CREATED:20221216T115812Z
LAST-MODIFIED:20221216T115913Z
UID:2074-1676486700-1676495700@kristin-glenewinkel.ch
SUMMARY:Sacred Circle - Offener Abend
DESCRIPTION:Dauer 2.5 Stunden\, Eintritt bar zahlen oder per Twint bei Ankunft CHF 30 \nMittwochabend 18.45 Uhr bis 21.15 Uhr \nBitte zeitig ankommen\,  \nim Tanzraum leichte Kleidung in Schichten tragen. \nMovement Medicine ist eine schamanische Bewegungspraxis – sie geht direkt unter die Haut und fordert dich auf\, mit dem zu bewegen\, was wirklich da ist. Die Alchemie\, die durch deine Präsenz in Bewegung möglich wird\, öffnet neue Türen und erlaubt dir\, dein Selbst zu aktualisieren und Altes loszulassen. \nKristin führt liebevoll und direkt durch verschiedene Übungen der Movement Medicine Praxis\, getragen von exzellenter Musik und bewusst gewählten Worten. Jeder Mensch ist willkommen mit der ureigenen Körpersprache. In einem geschützten Rahmen experimentieren wir mit Stimme\, Tanz und Ritual. \nDiese Abende sind Nährboden für Kraft und Resilienz\, wir schaffen einen Kreis\, in dem wir uns bewegen\, verwandeln\, zuhören und unserer Kreativität Raum geben.
URL:https://kristin-glenewinkel.ch/event/sacred-circle-offener-abend/
LOCATION:Geburtshaus Matthea\, Klybeckstrasse 70\, Basel\, 4057\, Schweiz
CATEGORIES:Sacred Circle Serie
ATTACH;FMTTYPE=image/jpeg:https://kristin-glenewinkel.ch/wp-content/uploads/2019/10/sacred_circle.jpg
END:VEVENT
END:VCALENDAR