BEGIN:VCALENDAR
VERSION:2.0
PRODID:-//Kristin Glenewinkel - ECPv6.15.12.2//NONSGML v1.0//EN
CALSCALE:GREGORIAN
METHOD:PUBLISH
X-WR-CALNAME:Kristin Glenewinkel
X-ORIGINAL-URL:https://kristin-glenewinkel.ch
X-WR-CALDESC:Veranstaltungen für Kristin Glenewinkel
REFRESH-INTERVAL;VALUE=DURATION:PT1H
X-Robots-Tag:noindex
X-PUBLISHED-TTL:PT1H
BEGIN:VTIMEZONE
TZID:Europe/Berlin
BEGIN:DAYLIGHT
TZOFFSETFROM:+0100
TZOFFSETTO:+0200
TZNAME:CEST
DTSTART:20210328T010000
END:DAYLIGHT
BEGIN:STANDARD
TZOFFSETFROM:+0200
TZOFFSETTO:+0100
TZNAME:CET
DTSTART:20211031T010000
END:STANDARD
BEGIN:DAYLIGHT
TZOFFSETFROM:+0100
TZOFFSETTO:+0200
TZNAME:CEST
DTSTART:20220327T010000
END:DAYLIGHT
BEGIN:STANDARD
TZOFFSETFROM:+0200
TZOFFSETTO:+0100
TZNAME:CET
DTSTART:20221030T010000
END:STANDARD
BEGIN:DAYLIGHT
TZOFFSETFROM:+0100
TZOFFSETTO:+0200
TZNAME:CEST
DTSTART:20230326T010000
END:DAYLIGHT
BEGIN:STANDARD
TZOFFSETFROM:+0200
TZOFFSETTO:+0100
TZNAME:CET
DTSTART:20231029T010000
END:STANDARD
BEGIN:DAYLIGHT
TZOFFSETFROM:+0100
TZOFFSETTO:+0200
TZNAME:CEST
DTSTART:20240331T010000
END:DAYLIGHT
BEGIN:STANDARD
TZOFFSETFROM:+0200
TZOFFSETTO:+0100
TZNAME:CET
DTSTART:20241027T010000
END:STANDARD
END:VTIMEZONE
BEGIN:VEVENT
DTSTART;TZID=Europe/Berlin:20221230T190000
DTEND;TZID=Europe/Berlin:20230101T190000
DTSTAMP:20260423T033559
CREATED:20220802T150728Z
LAST-MODIFIED:20221012T200718Z
UID:2045-1672426800-1672599600@kristin-glenewinkel.ch
SUMMARY:Auf der Schwelle – Movement Medicine Workshop 
DESCRIPTION:Tanz – Rituelles Theater – Gebet – Zusammensein \nAltes Jahr verabschieden – neues Jahr willkommen heissen \nFr. 30.12.2022 19 bis 22 Uhr \nSa. 31.12.2022 14 bis 21 Uhr \nSo. 1.1. 2023  12 bis 19 Uhr \nim Chronos Movement Studio Basel\, Elisabethenstrasse \nFreitag tanzen wir uns ein und kommen an. Samstag werden wir im Tanz mit den Werkzeugen von Movement Medicine und mit dem Gestalten einer Collage das Jahr 2022 wertschätzen und anerkennen. Am Sonntag tanzen wir im taufrischen Jahr 2023 eine Movement Medicine Mandala Zeremonie. Wir bewegen in und durch die fünf Dimensionen: in Beziehung mit uns selbst\, den anderen Menschen in unserem Leben\, mit der Gemeinschaft\, mit unseren Ahnen und mit der Quelle. Wir öffnen den Raum für das neue Jahr und träumen im Tanz eine heilsame Zukunft für uns und all unsere Beziehungen. \nAnmelden bei Kristin über website oder Kristin.glenewinkel@gmx.ch \nFrühbucherpreis bei Einzahlung bis zum 1.12.2022 – CHF 250 \nab dem 2.12.2022 kostet der Kursbeitrag dann bei umgehender Einzahlung CHF 280
URL:https://kristin-glenewinkel.ch/event/auf-der-schwelle-movement-medicine-workshop/
LOCATION:Chronos Movement Studio Basel\, Elisabethenstrasse 22\, Basel\, 4051\, Schweiz
ATTACH;FMTTYPE=image/jpeg:https://kristin-glenewinkel.ch/wp-content/uploads/2018/07/Auf-der-Schwelle-1.jpg
END:VEVENT
BEGIN:VEVENT
DTSTART;TZID=Europe/Berlin:20230107T150000
DTEND;TZID=Europe/Berlin:20230107T200000
DTSTAMP:20260423T033559
CREATED:20221211T125550Z
LAST-MODIFIED:20221220T070947Z
UID:2072-1673103600-1673121600@kristin-glenewinkel.ch
SUMMARY:Movement Medicine Frauenkrafttag VISION 2023
DESCRIPTION:Movement Medicine Frauenkrafttag  7. Januar: Vision 2023 – Wahrnehmen – Wünschen – Weben – Wirken. An diesem Frauenkrafttag haben wir in einem tiefen und sicher gehaltenen Raum de Zeit\, das neue Jahr zu begrüssen und damit zu tanzen\, was da kommen will. Wir öffnen dafür das Tor in unsere Körperintelligenz\, lassen uns führen von Intuition und Instinkt. Wir tanzen durch die Schichten unseres Seins und empfangen die richtungsweisenden Impulse aus unserer inneren Welt. Im kreativen Nachklang haben wir Zeit eine Collage zu gestalten\, zu zeichnen oder zu schreiben. WANN: Samstag\, 7. Januar 2023. 15 – 20 Uhr WO: Chronos Movement Tanzstudio\, Elisabethenstrasse 22\, Basel. WIEVIEL: CHF 90 – Kommst du mit einer Freundin\, die das erste Mal bei Kristin tanzt\, gibt es für jede Frau den Freundinnenpreis von CHF 70. (Euro-Preis für Frauen aus DE oder F: CHF 60)  Anmeldung bei Kristin. kristin.glenewinkel@gmx.ch
URL:https://kristin-glenewinkel.ch/event/movement-medicine-frauenkrafttag-vision-2023/
LOCATION:Chronos Movement Studio Basel\, Elisabethenstrasse 22\, Basel\, 4051\, Schweiz
CATEGORIES:FKT
ATTACH;FMTTYPE=image/jpeg:https://kristin-glenewinkel.ch/wp-content/uploads/2020/11/Musterbild-Sonne-breit.jpg
END:VEVENT
BEGIN:VEVENT
DTSTART;TZID=Europe/Berlin:20230118T184500
DTEND;TZID=Europe/Berlin:20230118T211500
DTSTAMP:20260423T033559
CREATED:20221216T120203Z
LAST-MODIFIED:20221216T120203Z
UID:2076-1674067500-1674076500@kristin-glenewinkel.ch
SUMMARY:Sacred Circle - Offener Abend
DESCRIPTION:Dauer 2.5 Stunden\, Eintritt bar zahlen oder per Twint bei Ankunft CHF 30 \nMittwochabend 18.45 Uhr bis 21.15 Uhr \nBitte zeitig ankommen\,  \nim Tanzraum leichte Kleidung in Schichten tragen. \nMovement Medicine ist eine schamanische Bewegungspraxis – sie geht direkt unter die Haut und fordert dich auf\, mit dem zu bewegen\, was wirklich da ist. Die Alchemie\, die durch deine Präsenz in Bewegung möglich wird\, öffnet neue Türen und erlaubt dir\, dein Selbst zu aktualisieren und Altes loszulassen. \nKristin führt liebevoll und direkt durch verschiedene Übungen der Movement Medicine Praxis\, getragen von exzellenter Musik und bewusst gewählten Worten. Jeder Mensch ist willkommen mit der ureigenen Körpersprache. In einem geschützten Rahmen experimentieren wir mit Stimme\, Tanz und Ritual. \nDiese Abende sind Nährboden für Kraft und Resilienz\, wir schaffen einen Kreis\, in dem wir uns bewegen\, verwandeln\, zuhören und unserer Kreativität Raum geben.
URL:https://kristin-glenewinkel.ch/event/sacred-circle-offener-abend-2/
LOCATION:Geburtshaus Matthea\, Klybeckstrasse 70\, Basel\, 4057\, Schweiz
CATEGORIES:Sacred Circle Serie
ATTACH;FMTTYPE=image/jpeg:https://kristin-glenewinkel.ch/wp-content/uploads/2019/10/sacred_circle.jpg
END:VEVENT
BEGIN:VEVENT
DTSTART;TZID=Europe/Berlin:20230122T110000
DTEND;TZID=Europe/Berlin:20230122T140000
DTSTAMP:20260423T033559
CREATED:20221216T121854Z
LAST-MODIFIED:20221216T122000Z
UID:2094-1674385200-1674396000@kristin-glenewinkel.ch
SUMMARY:Movement Medicine Sonntagstanz
DESCRIPTION:Begegne der Natur deines Wesens  \nMovement Medicine ist eine schamanische Bewegungspraxis\, die den Tanz bejaht\, der sich im Jetzt frei entfaltet. Wir bewegen mit dem Dreiklang von Körper\, Herz und Geist und wecken Instinkt\, Intuition und Intelligenz in unserem Tanz.  \nWir erlauben unserer Imagination und geistigen Kraft\, tiefer im Körper zu wurzeln. So können wir echt sein und uns dem pulsierenden Herz des Lebens hingeben.  \nEinfach antanzen ohne Anmeldung\, CHF 35 
URL:https://kristin-glenewinkel.ch/event/movement-medicine-sonntagstanz/
LOCATION:Chronos Movement Studio Basel\, Elisabethenstrasse 22\, Basel\, 4051\, Schweiz
CATEGORIES:SOTA
ATTACH;FMTTYPE=image/jpeg:https://kristin-glenewinkel.ch/wp-content/uploads/2022/12/Flyer_MMSoTa_23_def.jpg
END:VEVENT
END:VCALENDAR