BEGIN:VCALENDAR
VERSION:2.0
PRODID:-//Kristin Glenewinkel - ECPv6.15.12.2//NONSGML v1.0//EN
CALSCALE:GREGORIAN
METHOD:PUBLISH
X-WR-CALNAME:Kristin Glenewinkel
X-ORIGINAL-URL:https://kristin-glenewinkel.ch
X-WR-CALDESC:Veranstaltungen für Kristin Glenewinkel
REFRESH-INTERVAL;VALUE=DURATION:PT1H
X-Robots-Tag:noindex
X-PUBLISHED-TTL:PT1H
BEGIN:VTIMEZONE
TZID:Europe/Berlin
BEGIN:DAYLIGHT
TZOFFSETFROM:+0100
TZOFFSETTO:+0200
TZNAME:CEST
DTSTART:20210328T010000
END:DAYLIGHT
BEGIN:STANDARD
TZOFFSETFROM:+0200
TZOFFSETTO:+0100
TZNAME:CET
DTSTART:20211031T010000
END:STANDARD
BEGIN:DAYLIGHT
TZOFFSETFROM:+0100
TZOFFSETTO:+0200
TZNAME:CEST
DTSTART:20220327T010000
END:DAYLIGHT
BEGIN:STANDARD
TZOFFSETFROM:+0200
TZOFFSETTO:+0100
TZNAME:CET
DTSTART:20221030T010000
END:STANDARD
BEGIN:DAYLIGHT
TZOFFSETFROM:+0100
TZOFFSETTO:+0200
TZNAME:CEST
DTSTART:20230326T010000
END:DAYLIGHT
BEGIN:STANDARD
TZOFFSETFROM:+0200
TZOFFSETTO:+0100
TZNAME:CET
DTSTART:20231029T010000
END:STANDARD
BEGIN:DAYLIGHT
TZOFFSETFROM:+0100
TZOFFSETTO:+0200
TZNAME:CEST
DTSTART:20240331T010000
END:DAYLIGHT
BEGIN:STANDARD
TZOFFSETFROM:+0200
TZOFFSETTO:+0100
TZNAME:CET
DTSTART:20241027T010000
END:STANDARD
END:VTIMEZONE
BEGIN:VEVENT
DTSTART;TZID=Europe/Berlin:20221207T190000
DTEND;TZID=Europe/Berlin:20221207T210000
DTSTAMP:20260423T045629
CREATED:20220507T151645Z
LAST-MODIFIED:20220507T151645Z
UID:2033-1670439600-1670446800@kristin-glenewinkel.ch
SUMMARY:Sacred Circle
DESCRIPTION:Movement Medicine ist eine schamanische Bewegungspraxis – sie geht direkt unter die Haut und fordert dich auf\, mit dem zu bewegen\, was wirklich da ist. Die Alchemie\, die durch deine Präsenz in Bewegung möglich wird\, öffnet neue Türen und erlaubt dir\, dein Selbst zu aktualisieren und Altes loszulassen. \nKristin führt liebevoll und direkt durch verschiedene Übungen der Movement Medicine Praxis\, getragen von exzellenter Musik und bewusst gewählten Worten. Jeder Mensch ist willkommen mit der ureigenen Körpersprache. In einem geschützten Rahmen experimentieren wir mit Stimme\, Tanz und Ritual.\nDiese Abende sind Nährboden für Kraft und Resilienz\, wir schaffen einen Kreis\, in dem wir uns bewegen\, verwandeln\, zuhören und unserer Kreativität Raum geben. \nDiese Abende bilden einen zusammenhängenden Kurs. Du bist eingeladen\, bei allen Terminen dabei zu sein. Es entsteht so eine Verbindlichkeit und wir können als Gruppe tiefer gehen und in Vertrauen austauschen. \nFortlaufende Gruppe. Mittwochabend 19 bis 21 Uhr
URL:https://kristin-glenewinkel.ch/event/sacred-circle-26/
LOCATION:Geburtshaus Matthea\, Klybeckstrasse 70\, Basel\, 4057\, Schweiz
CATEGORIES:Sacred Circle Serie
ATTACH;FMTTYPE=image/jpeg:https://kristin-glenewinkel.ch/wp-content/uploads/2019/10/sacred_circle.jpg
END:VEVENT
BEGIN:VEVENT
DTSTART;TZID=Europe/Berlin:20221210T150000
DTEND;TZID=Europe/Berlin:20221210T200000
DTSTAMP:20260423T045629
CREATED:20220703T123034Z
LAST-MODIFIED:20220703T123034Z
UID:2040-1670684400-1670702400@kristin-glenewinkel.ch
SUMMARY:Frauenkrafttag
DESCRIPTION:Thema wird noch bekannt gegeben. \nDie Kosten für die Teilnahme: CHF 90. Kommst du mit einer Freundin\, die das erste Mal bei Kristin tanzt\, gibt es für jede Frau den Freundinnenpreis von CHF 70. \nEuro-Preis für Frauen aus DE oder F: CHF 60 \nAnmeldung bei Kristin. Wenn Du Fragen hast\, schreibe mir gerne. \nkristin.glenewinkel@gmx.ch
URL:https://kristin-glenewinkel.ch/event/frauenkrafttag-3/
LOCATION:Chronos Movement Studio Basel\, Elisabethenstrasse 22\, Basel\, 4051\, Schweiz
ATTACH;FMTTYPE=image/jpeg:https://kristin-glenewinkel.ch/wp-content/uploads/2018/07/Kristin_Glenewinkel_Movement_Medicine_Basel-19.jpg
END:VEVENT
BEGIN:VEVENT
DTSTART;TZID=Europe/Berlin:20221221T190000
DTEND;TZID=Europe/Berlin:20221221T210000
DTSTAMP:20260423T045629
CREATED:20220507T151747Z
LAST-MODIFIED:20220507T151747Z
UID:2035-1671649200-1671656400@kristin-glenewinkel.ch
SUMMARY:Sacred Circle
DESCRIPTION:Movement Medicine ist eine schamanische Bewegungspraxis – sie geht direkt unter die Haut und fordert dich auf\, mit dem zu bewegen\, was wirklich da ist. Die Alchemie\, die durch deine Präsenz in Bewegung möglich wird\, öffnet neue Türen und erlaubt dir\, dein Selbst zu aktualisieren und Altes loszulassen. \nKristin führt liebevoll und direkt durch verschiedene Übungen der Movement Medicine Praxis\, getragen von exzellenter Musik und bewusst gewählten Worten. Jeder Mensch ist willkommen mit der ureigenen Körpersprache. In einem geschützten Rahmen experimentieren wir mit Stimme\, Tanz und Ritual.\nDiese Abende sind Nährboden für Kraft und Resilienz\, wir schaffen einen Kreis\, in dem wir uns bewegen\, verwandeln\, zuhören und unserer Kreativität Raum geben. \nDiese Abende bilden einen zusammenhängenden Kurs. Du bist eingeladen\, bei allen Terminen dabei zu sein. Es entsteht so eine Verbindlichkeit und wir können als Gruppe tiefer gehen und in Vertrauen austauschen. \nFortlaufende Gruppe. Mittwochabend 19 bis 21 Uhr
URL:https://kristin-glenewinkel.ch/event/sacred-circle-27/
LOCATION:Geburtshaus Matthea\, Klybeckstrasse 70\, Basel\, 4057\, Schweiz
CATEGORIES:Sacred Circle Serie
ATTACH;FMTTYPE=image/jpeg:https://kristin-glenewinkel.ch/wp-content/uploads/2019/10/sacred_circle.jpg
END:VEVENT
BEGIN:VEVENT
DTSTART;TZID=Europe/Berlin:20221225T110000
DTEND;TZID=Europe/Berlin:20221225T140000
DTSTAMP:20260423T045629
CREATED:20220131T132038Z
LAST-MODIFIED:20221129T095926Z
UID:1944-1671966000-1671976800@kristin-glenewinkel.ch
SUMMARY:Sonntagstanz
DESCRIPTION:Weihnachts Special: Achtung der letzte Sonntagstanz im Jahr 2022 findet am 25.Dezember statt – nicht wie geplant am 18.12. Sei willkommen zum Sternentanz\, wir tanzen in die Liebe und mit den Sternen\, entzünden das Licht in unseren Herzen im Tanz.\nAlso komm vorbei am 25.12. um 11 Uhr im Chronos Studio!!! \nBegegne der Natur deines Wesens \nMovement Medicine ist eine schamanische Bewegungspraxis\, die den Tanz bejaht\, der sich im Jetzt frei entfaltet. Wir bewegen mit dem Dreiklang von Körper\, Herz und Geist und wecken Instinkt\, Intui- tion und Intelligenz in unserem Tanz. Wir erlauben unserer Imagination und geistigen Kraft\, tiefer im Körper zu wurzeln. So können wir echt sein und uns dem pulsierenden Herz des Lebens hingeben. \nCHF 35 \nSonntag 11 bis 14 Uhr \nChronos Movement Studio Elisabethenstr. 22 in Basel \nkristin.glenewinkel@gmx.ch \nKristin ist qualifizierte Movement Medicine Lehrerin. Ihre Berufung ist es\, die Kluft zwischen Körper und Geist zu überwinden und Tanz als spirituelle Praxis\nin einem geerdeten Körper und mit lebendigem Herzen zu etablieren. Sie arbeitet mit Bewegung\, Atem\, Stimme und Klang\, Meditation und Tanz.
URL:https://kristin-glenewinkel.ch/event/sonntagstanz-18/
LOCATION:Chronos Movement Studio Basel\, Elisabethenstrasse 22\, Basel\, 4051\, Schweiz
CATEGORIES:SOTA
ATTACH;FMTTYPE=image/jpeg:https://kristin-glenewinkel.ch/wp-content/uploads/2021/11/Flyer_MMSoTa_22.jpg
END:VEVENT
BEGIN:VEVENT
DTSTART;TZID=Europe/Berlin:20221230T190000
DTEND;TZID=Europe/Berlin:20230101T190000
DTSTAMP:20260423T045629
CREATED:20220802T150728Z
LAST-MODIFIED:20221012T200718Z
UID:2045-1672426800-1672599600@kristin-glenewinkel.ch
SUMMARY:Auf der Schwelle – Movement Medicine Workshop 
DESCRIPTION:Tanz – Rituelles Theater – Gebet – Zusammensein \nAltes Jahr verabschieden – neues Jahr willkommen heissen \nFr. 30.12.2022 19 bis 22 Uhr \nSa. 31.12.2022 14 bis 21 Uhr \nSo. 1.1. 2023  12 bis 19 Uhr \nim Chronos Movement Studio Basel\, Elisabethenstrasse \nFreitag tanzen wir uns ein und kommen an. Samstag werden wir im Tanz mit den Werkzeugen von Movement Medicine und mit dem Gestalten einer Collage das Jahr 2022 wertschätzen und anerkennen. Am Sonntag tanzen wir im taufrischen Jahr 2023 eine Movement Medicine Mandala Zeremonie. Wir bewegen in und durch die fünf Dimensionen: in Beziehung mit uns selbst\, den anderen Menschen in unserem Leben\, mit der Gemeinschaft\, mit unseren Ahnen und mit der Quelle. Wir öffnen den Raum für das neue Jahr und träumen im Tanz eine heilsame Zukunft für uns und all unsere Beziehungen. \nAnmelden bei Kristin über website oder Kristin.glenewinkel@gmx.ch \nFrühbucherpreis bei Einzahlung bis zum 1.12.2022 – CHF 250 \nab dem 2.12.2022 kostet der Kursbeitrag dann bei umgehender Einzahlung CHF 280
URL:https://kristin-glenewinkel.ch/event/auf-der-schwelle-movement-medicine-workshop/
LOCATION:Chronos Movement Studio Basel\, Elisabethenstrasse 22\, Basel\, 4051\, Schweiz
ATTACH;FMTTYPE=image/jpeg:https://kristin-glenewinkel.ch/wp-content/uploads/2018/07/Auf-der-Schwelle-1.jpg
END:VEVENT
END:VCALENDAR