BEGIN:VCALENDAR
VERSION:2.0
PRODID:-//Kristin Glenewinkel - ECPv6.15.12.2//NONSGML v1.0//EN
CALSCALE:GREGORIAN
METHOD:PUBLISH
X-WR-CALNAME:Kristin Glenewinkel
X-ORIGINAL-URL:https://kristin-glenewinkel.ch
X-WR-CALDESC:Veranstaltungen für Kristin Glenewinkel
REFRESH-INTERVAL;VALUE=DURATION:PT1H
X-Robots-Tag:noindex
X-PUBLISHED-TTL:PT1H
BEGIN:VTIMEZONE
TZID:Europe/Berlin
BEGIN:DAYLIGHT
TZOFFSETFROM:+0100
TZOFFSETTO:+0200
TZNAME:CEST
DTSTART:20210328T010000
END:DAYLIGHT
BEGIN:STANDARD
TZOFFSETFROM:+0200
TZOFFSETTO:+0100
TZNAME:CET
DTSTART:20211031T010000
END:STANDARD
BEGIN:DAYLIGHT
TZOFFSETFROM:+0100
TZOFFSETTO:+0200
TZNAME:CEST
DTSTART:20220327T010000
END:DAYLIGHT
BEGIN:STANDARD
TZOFFSETFROM:+0200
TZOFFSETTO:+0100
TZNAME:CET
DTSTART:20221030T010000
END:STANDARD
BEGIN:DAYLIGHT
TZOFFSETFROM:+0100
TZOFFSETTO:+0200
TZNAME:CEST
DTSTART:20230326T010000
END:DAYLIGHT
BEGIN:STANDARD
TZOFFSETFROM:+0200
TZOFFSETTO:+0100
TZNAME:CET
DTSTART:20231029T010000
END:STANDARD
END:VTIMEZONE
BEGIN:VEVENT
DTSTART;TZID=Europe/Berlin:20221102T190000
DTEND;TZID=Europe/Berlin:20221102T210000
DTSTAMP:20260423T062743
CREATED:20220507T151436Z
LAST-MODIFIED:20220507T151436Z
UID:2029-1667415600-1667422800@kristin-glenewinkel.ch
SUMMARY:Sacred Circle
DESCRIPTION:Movement Medicine ist eine schamanische Bewegungspraxis – sie geht direkt unter die Haut und fordert dich auf\, mit dem zu bewegen\, was wirklich da ist. Die Alchemie\, die durch deine Präsenz in Bewegung möglich wird\, öffnet neue Türen und erlaubt dir\, dein Selbst zu aktualisieren und Altes loszulassen. \nKristin führt liebevoll und direkt durch verschiedene Übungen der Movement Medicine Praxis\, getragen von exzellenter Musik und bewusst gewählten Worten. Jeder Mensch ist willkommen mit der ureigenen Körpersprache. In einem geschützten Rahmen experimentieren wir mit Stimme\, Tanz und Ritual.\nDiese Abende sind Nährboden für Kraft und Resilienz\, wir schaffen einen Kreis\, in dem wir uns bewegen\, verwandeln\, zuhören und unserer Kreativität Raum geben. \nDiese Abende bilden einen zusammenhängenden Kurs. Du bist eingeladen\, bei allen Terminen dabei zu sein. Es entsteht so eine Verbindlichkeit und wir können als Gruppe tiefer gehen und in Vertrauen austauschen. \nFortlaufende Gruppe. Mittwochabend 19 bis 21 Uhr
URL:https://kristin-glenewinkel.ch/event/sacred-circle-24/
LOCATION:Geburtshaus Matthea\, Klybeckstrasse 70\, Basel\, 4057\, Schweiz
CATEGORIES:Sacred Circle Serie
ATTACH;FMTTYPE=image/jpeg:https://kristin-glenewinkel.ch/wp-content/uploads/2019/10/sacred_circle.jpg
END:VEVENT
BEGIN:VEVENT
DTSTART;TZID=Europe/Berlin:20221116T190000
DTEND;TZID=Europe/Berlin:20221116T210000
DTSTAMP:20260423T062743
CREATED:20220507T151538Z
LAST-MODIFIED:20220507T151538Z
UID:2031-1668625200-1668632400@kristin-glenewinkel.ch
SUMMARY:Sacred Circle
DESCRIPTION:Movement Medicine ist eine schamanische Bewegungspraxis – sie geht direkt unter die Haut und fordert dich auf\, mit dem zu bewegen\, was wirklich da ist. Die Alchemie\, die durch deine Präsenz in Bewegung möglich wird\, öffnet neue Türen und erlaubt dir\, dein Selbst zu aktualisieren und Altes loszulassen. \nKristin führt liebevoll und direkt durch verschiedene Übungen der Movement Medicine Praxis\, getragen von exzellenter Musik und bewusst gewählten Worten. Jeder Mensch ist willkommen mit der ureigenen Körpersprache. In einem geschützten Rahmen experimentieren wir mit Stimme\, Tanz und Ritual.\nDiese Abende sind Nährboden für Kraft und Resilienz\, wir schaffen einen Kreis\, in dem wir uns bewegen\, verwandeln\, zuhören und unserer Kreativität Raum geben. \nDiese Abende bilden einen zusammenhängenden Kurs. Du bist eingeladen\, bei allen Terminen dabei zu sein. Es entsteht so eine Verbindlichkeit und wir können als Gruppe tiefer gehen und in Vertrauen austauschen. \nFortlaufende Gruppe. Mittwochabend 19 bis 21 Uhr
URL:https://kristin-glenewinkel.ch/event/sacred-circle-25/
LOCATION:Geburtshaus Matthea\, Klybeckstrasse 70\, Basel\, 4057\, Schweiz
CATEGORIES:Sacred Circle Serie
ATTACH;FMTTYPE=image/jpeg:https://kristin-glenewinkel.ch/wp-content/uploads/2019/10/sacred_circle.jpg
END:VEVENT
BEGIN:VEVENT
DTSTART;TZID=Europe/Berlin:20221120T110000
DTEND;TZID=Europe/Berlin:20221120T140000
DTSTAMP:20260423T062743
CREATED:20220131T133018Z
LAST-MODIFIED:20220507T145722Z
UID:1946-1668942000-1668952800@kristin-glenewinkel.ch
SUMMARY:Sonntagstanz
DESCRIPTION:Begegne der Natur deines Wesens \nMovement Medicine ist eine schamanische Bewe- gungspraxis\, die den Tanz bejaht\, der sich im Jetzt frei entfaltet. Wir bewegen mit dem Dreiklang von Körper\, Herz und Geist und wecken Instinkt\, Intui- tion und Intelligenz in unserem Tanz. Wir erlauben unserer Imagination und geistigen Kraft\, tiefer im Körper zu wurzeln. So können wir echt sein und uns dem pulsierenden Herz des Lebens hingeben. \nCHF 35 \nSonntag 11 bis 14 Uhr \nChronos Movement Studio Elisabethenstr. 22 in Basel \nkristin.glenewinkel@gmx.ch \nKristin ist qualifizierte Movement Medicine Lehrerin. Ihre Berufung ist es\, die Kluft zwischen Körper und Geist zu überwinden und Tanz als spirituelle Praxis\nin einem geerdeten Körper und mit lebendigem Herzen zu etablieren. Sie arbeitet mit Bewegung\, Atem\, Stimme und Klang\, Meditation und Tanz.
URL:https://kristin-glenewinkel.ch/event/sonntagstanz-19/
LOCATION:Chronos Movement Studio Basel\, Elisabethenstrasse 22\, Basel\, 4051\, Schweiz
CATEGORIES:SOTA
ATTACH;FMTTYPE=image/jpeg:https://kristin-glenewinkel.ch/wp-content/uploads/2021/11/Flyer_MMSoTa_22.jpg
END:VEVENT
END:VCALENDAR