BEGIN:VCALENDAR
VERSION:2.0
PRODID:-//Kristin Glenewinkel - ECPv6.15.12.2//NONSGML v1.0//EN
CALSCALE:GREGORIAN
METHOD:PUBLISH
X-ORIGINAL-URL:https://kristin-glenewinkel.ch
X-WR-CALDESC:Veranstaltungen für Kristin Glenewinkel
REFRESH-INTERVAL;VALUE=DURATION:PT1H
X-Robots-Tag:noindex
X-PUBLISHED-TTL:PT1H
BEGIN:VTIMEZONE
TZID:Europe/Berlin
BEGIN:DAYLIGHT
TZOFFSETFROM:+0100
TZOFFSETTO:+0200
TZNAME:CEST
DTSTART:20210328T010000
END:DAYLIGHT
BEGIN:STANDARD
TZOFFSETFROM:+0200
TZOFFSETTO:+0100
TZNAME:CET
DTSTART:20211031T010000
END:STANDARD
BEGIN:DAYLIGHT
TZOFFSETFROM:+0100
TZOFFSETTO:+0200
TZNAME:CEST
DTSTART:20220327T010000
END:DAYLIGHT
BEGIN:STANDARD
TZOFFSETFROM:+0200
TZOFFSETTO:+0100
TZNAME:CET
DTSTART:20221030T010000
END:STANDARD
BEGIN:DAYLIGHT
TZOFFSETFROM:+0100
TZOFFSETTO:+0200
TZNAME:CEST
DTSTART:20230326T010000
END:DAYLIGHT
BEGIN:STANDARD
TZOFFSETFROM:+0200
TZOFFSETTO:+0100
TZNAME:CET
DTSTART:20231029T010000
END:STANDARD
END:VTIMEZONE
BEGIN:VEVENT
DTSTART;TZID=Europe/Berlin:20220601T190000
DTEND;TZID=Europe/Berlin:20220601T210000
DTSTAMP:20260423T142408
CREATED:20220131T140321Z
LAST-MODIFIED:20220216T195408Z
UID:1951-1654110000-1654117200@kristin-glenewinkel.ch
SUMMARY:Sacred Circle - Fortlaufende Gruppe
DESCRIPTION:Dieser Zyklus von Abenden ist Spielplatz und Zuflucht für deine Seele\, Du bist willkommen\, den kreativen Fluss in dir zu erneuern. Dynamisch\, passioniert und entspannt leitet Kristin durch den Abend und tiefer in den Tanz.  Du findest im Flussbett des Tanzes Perlen\, die du mitnehmen kannst in deinen Alltag\, sie erlauben Dir\, noch mehr DU SELBST zu sein und dich so zu verkörpern. \nFrühlingszyklus: 16. & 30. März\, 6. April\, 4. & 18. Mai\, 1.\, 15. & 29. Juni 2022 \njeweils 19 bis 21 Uhr im Mondraum \nMovement Medicine ist eine schamanische Bewegungspraxis – sie geht direkt unter die Haut und fordert dich auf\, mit dem zu bewegen\, was wirklich da ist. Die Alchemie\, die durch deine Präsenz in Bewegung möglich wird\, öffnet neue Türen und erlaubt dir\, dein Selbst zu aktualisieren und Altes loszulassen.
URL:https://kristin-glenewinkel.ch/event/sacred-circle-fortlaufende-gruppe-2/
LOCATION:Geburtshaus Matthea\, Klybeckstrasse 70\, Basel\, 4057\, Schweiz
CATEGORIES:Sacred Circle Serie
ATTACH;FMTTYPE=image/jpeg:https://kristin-glenewinkel.ch/wp-content/uploads/2019/10/sacred_circle.jpg
END:VEVENT
BEGIN:VEVENT
DTSTART;TZID=Europe/Berlin:20220615T190000
DTEND;TZID=Europe/Berlin:20220615T210000
DTSTAMP:20260423T142408
CREATED:20220131T140518Z
LAST-MODIFIED:20220216T195540Z
UID:1953-1655319600-1655326800@kristin-glenewinkel.ch
SUMMARY:Sacred Circle - Fortlaufende Gruppe
DESCRIPTION:Dieser Zyklus von Abenden ist Spielplatz und Zuflucht für deine Seele\, Du bist willkommen\, den kreativen Fluss in dir zu erneuern. Dynamisch\, passioniert und entspannt leitet Kristin durch den Abend und tiefer in den Tanz.  Du findest im Flussbett des Tanzes Perlen\, die du mitnehmen kannst in deinen Alltag\, sie erlauben Dir\, noch mehr DU SELBST zu sein und dich so zu verkörpern. \nFrühlingszyklus: 16. & 30. März\, 6. April\, 4. & 18. Mai\, 1.\, 15. & 29. Juni 2022jeweils 19 bis 21 Uhr im Mondraum \nMovement Medicine ist eine schamanische Bewegungspraxis – sie geht direkt unter die Haut und fordert dich auf\, mit dem zu bewegen\, was wirklich da ist. Die Alchemie\, die durch deine Präsenz in Bewegung möglich wird\, öffnet neue Türen und erlaubt dir\, dein Selbst zu aktualisieren und Altes loszulassen.
URL:https://kristin-glenewinkel.ch/event/sacred-circle-fortlaufende-gruppe-3/
LOCATION:Geburtshaus Matthea\, Klybeckstrasse 70\, Basel\, 4057\, Schweiz
CATEGORIES:Sacred Circle Serie
ATTACH;FMTTYPE=image/jpeg:https://kristin-glenewinkel.ch/wp-content/uploads/2019/10/sacred_circle.jpg
END:VEVENT
BEGIN:VEVENT
DTSTART;TZID=Europe/Berlin:20220619T110000
DTEND;TZID=Europe/Berlin:20220619T140000
DTSTAMP:20260423T142408
CREATED:20191111T073510Z
LAST-MODIFIED:20220507T145842Z
UID:1409-1655636400-1655647200@kristin-glenewinkel.ch
SUMMARY:SONNTAGSTANZ
DESCRIPTION:Begegne der Natur deines Wesens \nMovement Medicine ist eine schamanische Bewe- gungspraxis\, die den Tanz bejaht\, der sich im Jetzt frei entfaltet. Wir bewegen mit dem Dreiklang von Körper\, Herz und Geist und wecken Instinkt\, Intui- tion und Intelligenz in unserem Tanz. Wir erlauben unserer Imagination und geistigen Kraft\, tiefer im Körper zu wurzeln. So können wir echt sein und uns dem pulsierenden Herz des Lebens hingeben. \nCHF 35 \nSonntag 11 bis 14 Uhr \nChronos Movement Studio Elisabethenstr. 22 in Basel \nBitte anmelden.  kristin.glenewinkel@gmx.ch \nKristin ist qualifizierte Movement Medicine Lehrerin. Ihre Berufung ist es\, die Kluft zwischen Körper und Geist zu überwinden und Tanz als spirituelle Praxis\nin einem geerdeten Körper und mit lebendigem Herzen zu etablieren. Sie arbeitet mit Bewegung\, Atem\, Stimme und Klang\, Meditation und Tanz.
URL:https://kristin-glenewinkel.ch/event/sonntagstanz-12/
LOCATION:Chronos Movement Studio Basel\, Elisabethenstrasse 22\, Basel\, 4051\, Schweiz
CATEGORIES:SOTA
ATTACH;FMTTYPE=image/jpeg:https://kristin-glenewinkel.ch/wp-content/uploads/2021/11/Flyer_MMSoTa_22.jpg
END:VEVENT
BEGIN:VEVENT
DTSTART;TZID=Europe/Berlin:20220630T190000
DTEND;TZID=Europe/Berlin:20220630T210000
DTSTAMP:20260423T142408
CREATED:20220131T140712Z
LAST-MODIFIED:20220216T195451Z
UID:1955-1656615600-1656622800@kristin-glenewinkel.ch
SUMMARY:Sacred Circle - Fortlaufende Gruppe
DESCRIPTION:Dieser Zyklus von Abenden ist Spielplatz und Zuflucht für deine Seele\, Du bist willkommen\, den kreativen Fluss in dir zu erneuern. Dynamisch\, passioniert und entspannt leitet Kristin durch den Abend und tiefer in den Tanz.  Du findest im Flussbett des Tanzes Perlen\, die du mitnehmen kannst in deinen Alltag\, sie erlauben Dir\, noch mehr DU SELBST zu sein und dich so zu verkörpern. \nFrühlingszyklus: 16. & 30. März\, 6. April\, 4. & 18. Mai\, 1.\, 15. & 29. Juni 2022 \njeweils 19 bis 21 Uhr im Mondraum \nMovement Medicine ist eine schamanische Bewegungspraxis – sie geht direkt unter die Haut und fordert dich auf\, mit dem zu bewegen\, was wirklich da ist. Die Alchemie\, die durch deine Präsenz in Bewegung möglich wird\, öffnet neue Türen und erlaubt dir\, dein Selbst zu aktualisieren und Altes loszulassen.
URL:https://kristin-glenewinkel.ch/event/sacred-circle-fortlaufende-gruppe-4/
LOCATION:Geburtshaus Matthea\, Klybeckstrasse 70\, Basel\, 4057\, Schweiz
CATEGORIES:Sacred Circle Serie
ATTACH;FMTTYPE=image/jpeg:https://kristin-glenewinkel.ch/wp-content/uploads/2019/10/sacred_circle.jpg
END:VEVENT
END:VCALENDAR