BEGIN:VCALENDAR
VERSION:2.0
PRODID:-//Kristin Glenewinkel - ECPv6.15.12.2//NONSGML v1.0//EN
CALSCALE:GREGORIAN
METHOD:PUBLISH
X-WR-CALNAME:Kristin Glenewinkel
X-ORIGINAL-URL:https://kristin-glenewinkel.ch
X-WR-CALDESC:Veranstaltungen für Kristin Glenewinkel
REFRESH-INTERVAL;VALUE=DURATION:PT1H
X-Robots-Tag:noindex
X-PUBLISHED-TTL:PT1H
BEGIN:VTIMEZONE
TZID:Europe/Berlin
BEGIN:DAYLIGHT
TZOFFSETFROM:+0100
TZOFFSETTO:+0200
TZNAME:CEST
DTSTART:20210328T010000
END:DAYLIGHT
BEGIN:STANDARD
TZOFFSETFROM:+0200
TZOFFSETTO:+0100
TZNAME:CET
DTSTART:20211031T010000
END:STANDARD
BEGIN:DAYLIGHT
TZOFFSETFROM:+0100
TZOFFSETTO:+0200
TZNAME:CEST
DTSTART:20220327T010000
END:DAYLIGHT
BEGIN:STANDARD
TZOFFSETFROM:+0200
TZOFFSETTO:+0100
TZNAME:CET
DTSTART:20221030T010000
END:STANDARD
BEGIN:DAYLIGHT
TZOFFSETFROM:+0100
TZOFFSETTO:+0200
TZNAME:CEST
DTSTART:20230326T010000
END:DAYLIGHT
BEGIN:STANDARD
TZOFFSETFROM:+0200
TZOFFSETTO:+0100
TZNAME:CET
DTSTART:20231029T010000
END:STANDARD
END:VTIMEZONE
BEGIN:VEVENT
DTSTART;TZID=Europe/Berlin:20220504T190000
DTEND;TZID=Europe/Berlin:20220504T210000
DTSTAMP:20260423T154914
CREATED:20220131T143705Z
LAST-MODIFIED:20220216T195824Z
UID:1964-1651690800-1651698000@kristin-glenewinkel.ch
SUMMARY:Sacred Circle - Fortlaufende Gruppe
DESCRIPTION:Dieser Zyklus von Abenden ist Spielplatz und Zuflucht für deine Seele\, Du bist willkommen\, den kreativen Fluss in dir zu erneuern. Dynamisch\, passioniert und entspannt leitet Kristin durch den Abend und tiefer in den Tanz.  Du findest im Flussbett des Tanzes Perlen\, die du mitnehmen kannst in deinen Alltag\, sie erlauben Dir\, noch mehr DU SELBST zu sein und dich so zu verkörpern. \nFrühlingszyklus: 16. & 30. März\, 6. April\, 4. & 18. Mai\, 1.\, 15. & 29. Juni 2022 \njeweils 19 bis 21 Uhr im Mondraum \nMovement Medicine ist eine schamanische Bewegungspraxis – sie geht direkt unter die Haut und fordert dich auf\, mit dem zu bewegen\, was wirklich da ist. Die Alchemie\, die durch deine Präsenz in Bewegung möglich wird\, öffnet neue Türen und erlaubt dir\, dein Selbst zu aktualisieren und Altes loszulassen.
URL:https://kristin-glenewinkel.ch/event/sacred-circle-fortlaufende-gruppe-5/
LOCATION:Geburtshaus Matthea\, Klybeckstrasse 70\, Basel\, 4057\, Schweiz
CATEGORIES:Sacred Circle Serie
ATTACH;FMTTYPE=image/jpeg:https://kristin-glenewinkel.ch/wp-content/uploads/2019/10/sacred_circle.jpg
END:VEVENT
BEGIN:VEVENT
DTSTART;TZID=Europe/Berlin:20220515T110000
DTEND;TZID=Europe/Berlin:20220515T140000
DTSTAMP:20260423T154914
CREATED:20201120T073628Z
LAST-MODIFIED:20220507T150011Z
UID:1411-1652612400-1652623200@kristin-glenewinkel.ch
SUMMARY:SONNTAGSTANZ
DESCRIPTION:Begegne der Natur deines Wesens \nMovement Medicine ist eine schamanische Bewe- gungspraxis\, die den Tanz bejaht\, der sich im Jetzt frei entfaltet. Wir bewegen mit dem Dreiklang von Körper\, Herz und Geist und wecken Instinkt\, Intui- tion und Intelligenz in unserem Tanz. Wir erlauben unserer Imagination und geistigen Kraft\, tiefer im Körper zu wurzeln. So können wir echt sein und uns dem pulsierenden Herz des Lebens hingeben. \nCHF 35 \nSonntag 11 bis 14 Uhr \nChronos Movement Studio Elisabethenstr. 22 in Basel \nkristin.glenewinkel@gmx.ch \nKristin ist qualifizierte Movement Medicine Lehrerin. Ihre Berufung ist es\, die Kluft zwischen Körper und Geist zu überwinden und Tanz als spirituelle Praxis\nin einem geerdeten Körper und mit lebendigem Herzen zu etablieren. Sie arbeitet mit Bewegung\, Atem\, Stimme und Klang\, Meditation und Tanz. \n 
URL:https://kristin-glenewinkel.ch/event/sonntagstanz-13/
LOCATION:Chronos Movement Studio Basel\, Elisabethenstrasse 22\, Basel\, 4051\, Schweiz
CATEGORIES:Sonntagstanz,SOTA
ATTACH;FMTTYPE=image/jpeg:https://kristin-glenewinkel.ch/wp-content/uploads/2021/11/Flyer_MMSoTa_22.jpg
END:VEVENT
BEGIN:VEVENT
DTSTART;TZID=Europe/Berlin:20220518T190000
DTEND;TZID=Europe/Berlin:20220518T210000
DTSTAMP:20260423T154914
CREATED:20220131T140127Z
LAST-MODIFIED:20220216T195626Z
UID:1949-1652900400-1652907600@kristin-glenewinkel.ch
SUMMARY:Sacred Circle - Fortlaufende Gruppe
DESCRIPTION:Dieser Zyklus von Abenden ist Spielplatz und Zuflucht für deine Seele\, Du bist willkommen\, den kreativen Fluss in dir zu erneuern. Dynamisch\, passioniert und entspannt leitet Kristin durch den Abend und tiefer in den Tanz.  Du findest im Flussbett des Tanzes Perlen\, die du mitnehmen kannst in deinen Alltag\, sie erlauben Dir\, noch mehr DU SELBST zu sein und dich so zu verkörpern. \nFrühlingszyklus: 16. & 30. März\, 6. April\, 4. & 18. Mai\, 1.\, 15. & 29. Juni 2022 \njeweils 19 bis 21 Uhr im Mondraum \nMovement Medicine ist eine schamanische Bewegungspraxis – sie geht direkt unter die Haut und fordert dich auf\, mit dem zu bewegen\, was wirklich da ist. Die Alchemie\, die durch deine Präsenz in Bewegung möglich wird\, öffnet neue Türen und erlaubt dir\, dein Selbst zu aktualisieren und Altes loszulassen.
URL:https://kristin-glenewinkel.ch/event/sacred-circle-fortlaufende-gruppe/
LOCATION:Geburtshaus Matthea\, Klybeckstrasse 70\, Basel\, 4057\, Schweiz
CATEGORIES:Sacred Circle Serie
ATTACH;FMTTYPE=image/jpeg:https://kristin-glenewinkel.ch/wp-content/uploads/2019/10/sacred_circle.jpg
END:VEVENT
BEGIN:VEVENT
DTSTART;TZID=Europe/Berlin:20220528T150000
DTEND;TZID=Europe/Berlin:20220528T200000
DTSTAMP:20260423T154914
CREATED:20220131T141744Z
LAST-MODIFIED:20220507T145934Z
UID:1960-1653750000-1653768000@kristin-glenewinkel.ch
SUMMARY:Frauenkrafttag * ZAUBER  Luft -- Weise
DESCRIPTION:Willkommen im Frauenkreis!\nFrauenkrafttag * ZAUBER  Luft — Weise \nDie Kosten für die Teilnahme: CHF 90. Kommst du mit einer Freundin\, die das erste Mal bei Kristin tanzt\, gibt es für jede Frau den Freundinnenpreis von CHF 70.\n\n\n\n\nAnmeldung per email  – kristin.glenewinkel@gmx.ch \n\nDieser Frauenkrafttag begrüßt uns im Atemraum. Wir tanzen\, tönen\, lüften und weiten uns\, kommen im Körper an – um dann das Segel aufzuspannen und dem Zauber Raum zu schenken. Das Luft Element umarmt uns mit purer Freude am Sein und Dankbarkeit. Wir begegnen (im Körper angekommen) der weisen Alten und schauen mit Mitgefühl im Herzen auf unser Leben. Aus der Vogelperspektive sehen wir\, wo wir stehen und was der nächste Schritt ist. Wir erlauben\, dass unser kritisches Denken in unserem tanzenden Wesen wurzelt und integrieren so unseren Verstand in den Dreiklang von Körper\, Herz und Geist. In dieser Übereinstimmung und Weite arbeiten wir mit einer Incantation/Anrufung und lassen die Stimme klingen. \n\n\n\n„Ich schätze an den Frauenkrafttagen besonders den geschützten Raum\, Kristin schafft. Mich inspirieren die Begegnungen mit der geistigen Welt und die Botschaften\, die ich erhalten habe.“ Maria\n„Im Tanz dieses wunderbaren workshops fühle ich mich zart und weiblich kraftvoll\, darf ausruhen – aus der Ruhe kreativ werden. Das Bild der Rosenknospe entsteht\, Rosenblüten schützen den inneren Kern… leuchtend ist dieser. Raum entsteht\, viel Raum\, Raum in meinen Zellen\, Raum um mich herum. Ich reise in die Freiheit und bespiele meinen Raum innen und außen mit Liebe. Danke Kristin für diese kraftvolle Frauenreise.“ Sabine \nMovement Medicine ist eine schamanische Bewegungspraxis\, die den innewohnenden tanz bejaht\, der sich Jetzt frei entfaltet. Jede Frau ist willkommen mit ihrer Körpersprache\, mit Gefühlen und Geschichten. In einem geschützten Rahmen experimentieren wir mit Stimme\, Tanz und Ritual. Wir anerkennen einander als freie Frauen. Diese tage sind Nährboden für weibliche Kraft\, wir bilden einen Kreis\, in dem wir uns bewegen\, zuhören und unserer Kreativität Raum geben.
URL:https://kristin-glenewinkel.ch/event/frauenkrafttag-zauber-luft-weise/
LOCATION:Chronos Movement Studio Basel\, Elisabethenstrasse 22\, Basel\, 4051\, Schweiz
CATEGORIES:FKT
ATTACH;FMTTYPE=image/jpeg:https://kristin-glenewinkel.ch/wp-content/uploads/2018/08/Kristin_Himmel-1.jpg
END:VEVENT
END:VCALENDAR