BEGIN:VCALENDAR
VERSION:2.0
PRODID:-//Kristin Glenewinkel - ECPv6.15.12.2//NONSGML v1.0//EN
CALSCALE:GREGORIAN
METHOD:PUBLISH
X-ORIGINAL-URL:https://kristin-glenewinkel.ch
X-WR-CALDESC:Veranstaltungen für Kristin Glenewinkel
REFRESH-INTERVAL;VALUE=DURATION:PT1H
X-Robots-Tag:noindex
X-PUBLISHED-TTL:PT1H
BEGIN:VTIMEZONE
TZID:Europe/Berlin
BEGIN:DAYLIGHT
TZOFFSETFROM:+0100
TZOFFSETTO:+0200
TZNAME:CEST
DTSTART:20200329T010000
END:DAYLIGHT
BEGIN:STANDARD
TZOFFSETFROM:+0200
TZOFFSETTO:+0100
TZNAME:CET
DTSTART:20201025T010000
END:STANDARD
BEGIN:DAYLIGHT
TZOFFSETFROM:+0100
TZOFFSETTO:+0200
TZNAME:CEST
DTSTART:20210328T010000
END:DAYLIGHT
BEGIN:STANDARD
TZOFFSETFROM:+0200
TZOFFSETTO:+0100
TZNAME:CET
DTSTART:20211031T010000
END:STANDARD
BEGIN:DAYLIGHT
TZOFFSETFROM:+0100
TZOFFSETTO:+0200
TZNAME:CEST
DTSTART:20220327T010000
END:DAYLIGHT
BEGIN:STANDARD
TZOFFSETFROM:+0200
TZOFFSETTO:+0100
TZNAME:CET
DTSTART:20221030T010000
END:STANDARD
END:VTIMEZONE
BEGIN:VEVENT
DTSTART;TZID=Europe/Berlin:20211211T150000
DTEND;TZID=Europe/Berlin:20211211T200000
DTSTAMP:20260423T234003
CREATED:20211031T085931Z
LAST-MODIFIED:20211031T085931Z
UID:1918-1639234800-1639252800@kristin-glenewinkel.ch
SUMMARY:Frauenkrafttag Musse - Erde: Medizinfrau
DESCRIPTION:Zur Einstimmung: https://vimeo.com/636166170\nANMELDUNG erforderlich: kristin.glenewinkel@gmx.ch\nInfos zum Frauenkrafttag Musse – Erde: Medizinfrau am 11.12.2021\n\nKristin führt liebevoll und direkt durch verschiedene Übungen der Movement Medicine Praxis\, getragen von exzellenter Musik und bewusst gewählten Worten. Jede Frau ist willkommen mit ihrer Körpersprache. In einem geschützten Rahmen experimentieren wir mit Stimme\, Tanz und Ritual. Wir anerkennen einander als freie Frauen. Diese Tage sind Nährboden für weibliche Kraft\, wir bilden einen Kreis\, in dem wir uns bewegen\, zuhören und unserer Kreativität Raum geben.\n\nWIEVIEL: CHF 90  \n\nWANN: Samstag\, 11. Dezember 2021 von 15 bis 20 Uhr. \n\nAnkommen um 14.30 Uhr. Wir beginnen pünktlich\, komm bitte mit genügend Zeit an.\n\nWO: Chronos Movement Tanzstudio\, Elisabethenstrasse 22\, Basel.\n\nWAS mitbringen: Bequeme Tanzkleider\, eine Decke/Tuch\, Wasserflasche\, dein Notizheft und Stift\, etl. Farben/Malstifte.\n\nEinen Kristall oder Stein für den gemeinsamen Altar UND ein oder mehrere Bilder von Medizinfrauen = Kraftvolle/Freie Frauen.\n\nACHTUNG: wir machen keine Pause\, sondern verweilen in einer meditativen\, stillen Phase. Wenn Du es brauchst\, kannst du eine Kleinigkeit zum Essen mitnehmen\, bei Bedarf auch Tee/Thermoskanne.\n\nMeine Räume sind Zertifkat-frei\, wir tanzen mit Abstand und ohne Maske.
URL:https://kristin-glenewinkel.ch/event/frauenkrafttag-musse-erde-medizinfrau/
LOCATION:Chronos Movement Studio Basel\, Elisabethenstrasse 22\, Basel\, 4051\, Schweiz
CATEGORIES:FKT
ATTACH;FMTTYPE=image/jpeg:https://kristin-glenewinkel.ch/wp-content/uploads/2018/07/Kiental-1.jpg
END:VEVENT
BEGIN:VEVENT
DTSTART;TZID=Europe/Berlin:20211225T110000
DTEND;TZID=Europe/Berlin:20211226T180000
DTSTAMP:20260423T234003
CREATED:20211031T091108Z
LAST-MODIFIED:20211031T091108Z
UID:1925-1640430000-1640541600@kristin-glenewinkel.ch
SUMMARY:Auf der Schwelle - Movement Medicine Workshop zur Wintersonnenwende 
DESCRIPTION:Tanz – Rituelles Theater – Gebet – Zusammensein und Gestalten\nDas alte Jahr verabschieden und das neue Jahr willkommen heissen. \nSa. 25./So. 26. Dezember 2021 im Chronos Studio Basel\nSamstag 11 bis 18 Uhr und Sonntag 11 bis 18 Uhr\nAnmeldung erforderlich: kristin.glenewinkel@gmx.ch\nSamstag werden wir im Tanz mit den Werkzeugen von Movement Medicine und mit dem Gestalten einer Collage das Jahr 2021 wertschätzen und anerkennen. Am Sonntag tanzen wir eine Movement Medicine Mandala Zeremonie. Wir bewegen in und durch die fünf Dimensionen: in Beziehung mit uns selbst\, den anderen Menschen in unserem Leben\, mit der Gemeinschaft\, mit unseren Ahnen und mit der Quelle. Wir öffnen den Raum für das neue Jahr und träumen im Tanz eine heilsame Zukunft für uns und all unsere Beziehungen.\nSamstag und Sonntag 11 bis 18 Uhr – Ankommen ab 10.30 Uhr.\nFalls der Anlass nicht stattfinden kann\, bekommst du die Gebühr selbstverständlich zurück.\nHaftung ist Sache der Teilnehmer.\nDeine Anmeldung ist verbindlich\, Platzzahl ist begrenzt.\nWenn Du noch Fragen hast\,  schreib mir.
URL:https://kristin-glenewinkel.ch/event/auf-der-schwelle-movement-medicine-workshop-zur-wintersonnenwende/
LOCATION:Chronos Movement Studio Basel\, Elisabethenstrasse 22\, Basel\, 4051\, Schweiz
ATTACH;FMTTYPE=image/jpeg:https://kristin-glenewinkel.ch/wp-content/uploads/2020/11/Musterbild-Sonne-breit.jpg
END:VEVENT
END:VCALENDAR