BEGIN:VCALENDAR
VERSION:2.0
PRODID:-//Kristin Glenewinkel - ECPv6.15.12.2//NONSGML v1.0//EN
CALSCALE:GREGORIAN
METHOD:PUBLISH
X-WR-CALNAME:Kristin Glenewinkel
X-ORIGINAL-URL:https://kristin-glenewinkel.ch
X-WR-CALDESC:Veranstaltungen für Kristin Glenewinkel
REFRESH-INTERVAL;VALUE=DURATION:PT1H
X-Robots-Tag:noindex
X-PUBLISHED-TTL:PT1H
BEGIN:VTIMEZONE
TZID:Europe/Berlin
BEGIN:DAYLIGHT
TZOFFSETFROM:+0100
TZOFFSETTO:+0200
TZNAME:CEST
DTSTART:20200329T010000
END:DAYLIGHT
BEGIN:STANDARD
TZOFFSETFROM:+0200
TZOFFSETTO:+0100
TZNAME:CET
DTSTART:20201025T010000
END:STANDARD
BEGIN:DAYLIGHT
TZOFFSETFROM:+0100
TZOFFSETTO:+0200
TZNAME:CEST
DTSTART:20210328T010000
END:DAYLIGHT
BEGIN:STANDARD
TZOFFSETFROM:+0200
TZOFFSETTO:+0100
TZNAME:CET
DTSTART:20211031T010000
END:STANDARD
BEGIN:DAYLIGHT
TZOFFSETFROM:+0100
TZOFFSETTO:+0200
TZNAME:CEST
DTSTART:20220327T010000
END:DAYLIGHT
BEGIN:STANDARD
TZOFFSETFROM:+0200
TZOFFSETTO:+0100
TZNAME:CET
DTSTART:20221030T010000
END:STANDARD
END:VTIMEZONE
BEGIN:VEVENT
DTSTART;TZID=Europe/Berlin:20210619T150000
DTEND;TZID=Europe/Berlin:20210620T180000
DTSTAMP:20260424T084723
CREATED:20210420T072442Z
LAST-MODIFIED:20210609T152919Z
UID:1757-1624114800-1624212000@kristin-glenewinkel.ch
SUMMARY: „Leuchten“ - Tanztag & Zeremonie für Frauen 
DESCRIPTION: „Leuchten“ – Tanztag & Zeremonie für Frauen im Chronos Movement Studio zur Sommersonnenwende am 19. & 20. Juni – Samstag 15 – 21 Uhr & Sonntag 11 bis 18 Uhr – Frühbucherpreis CHF 180 bis 19. Mai – Anmeldung bei Kristin \nDu bist eingeladen im Kreis von Frauen zu sein und zu wachsen. Wir treffen uns am Samstag im Tanz\, begegnen der Medizin der Bewegung\, bringen unsere Alchemie in den Fluss und feiern dann am Sonntag eine Zeremonie. Wir haben Zeit zu teilen\, zu tanzen\, zu lauschen. Wir gestalten und verkörpern Tänze. Ergänzt wird diese Erfahrung von Begegnungen unter Frauen im lauschenden Kreis. \nWas Kristin Dir bietet: \n\nein Gefühl für deine innere\, heilsame Kraft und Selbstwirksamkeit entwickeln.\ndurch das eigene Bewegen und Tanzen diese Medizin rufen und lenken können.\nin Berührung kommen mit geistigem Leben\, einer Ausrichtung und deiner Berufung.\ntiefe Erfahrung von Ausrichtung und Verbindung unter Frauen im Kreis.\ndein Körpergewahrsein vertiefen und so inneren Frieden finden.\ndie Träumende in Dir ehren und deiner inneren Welt Raum schenken.\nRaum\, in dem Du dir bewusster werden kannst\, was schon da ist und was werden will.\n\nMovement Medicine ist eine schamanische Bewegungspraxis\, die den innewohnenden Tanz bejaht\, der sich Jetzt frei entfaltet. Jede Frau ist willkommen mit ihrer Körpersprache\, mit Gefühlen und Geschichten. In einem geschützten Rahmen experimentieren wir mit Stimme\, Tanz und Ritual. Wir anerkennen einander als freie Frauen. Diese Tage sind Nährboden für weibliche Kraft\, wir bilden einen Kreis\, in dem wir uns bewegen\, zuhören und unserer Kreativität Raum geben. \nKristin Glenewinkel ist qualifizierte Movement Medicine Lehrerin. Ihr erlebtes Körperwissen fliesst in ihre Tanzarbeit mit ein. Langjährige Schulung in Meditation und Yoga und zusätzliches Training im halten von Ritualen & Zeremonien geben ihrem Raum tiefe. Kristin ist eine weise\, behutsame Frau\, die andere unterstützt\, Bewegung in ihren Prozess zu bringen. In Weichheit und durch Weiblichkeit. Sie ist verbunden mit inneren Kräften\, ihre Arbeit ist Medizin für die Seele.
URL:https://kristin-glenewinkel.ch/event/leuchten-tanztag-zeremonie-fuer-frauen/
LOCATION:Chronos Movement Studio Basel\, Elisabethenstrasse 22\, Basel\, 4051\, Schweiz
CATEGORIES:FKT
ATTACH;FMTTYPE=image/jpeg:https://kristin-glenewinkel.ch/wp-content/uploads/2018/07/Test-PIXLR.jpeg
END:VEVENT
END:VCALENDAR